OziExplorer Map Data File Version 2.2
100k--r37-111_112.gif
100k--r37-111_112.gif
1 ,Map Code,
Pulkovo 1942 (2),WGS 84, 0.0000, 0.0000,WGS 84
Reserved 1
Reserved 2
Magnetic Variation,,,E
Map Projection,Transverse Mercator,PolyCal,No,AutoCalOnly,No,BSBUseWPX,No
Point01,xy, 96, 103,in, deg, 69, 0.0000,N, 37, 0.0000,E, grid, , , ,N
Point02,xy, 1668, 102,in, deg, 69, 0.0000,N, 37, 30.0000,E, grid, , , ,N
Point03,xy, 3242, 84,in, deg, 69, 0.0000,N, 38, 0.0000,E, grid, , , ,N
Point04,xy, 92, 1569,in, deg, 68, 50.0000,N, 37, 0.0000,E, grid, , , ,N
Point05,xy, 1677, 1566,in, deg, 68, 50.0000,N, 37, 30.0000,E, grid, , , ,N
Point06,xy, 3262, 1546,in, deg, 68, 50.0000,N, 38, 0.0000,E, grid, , , ,N
Point07,xy, 92, 3031,in, deg, 68, 40.0000,N, 37, 0.0000,E, grid, , , ,N
Point08,xy, 1688, 3029,in, deg, 68, 40.0000,N, 37, 30.0000,E, grid, , , ,N
Point09,xy, 3283, 3008,in, deg, 68, 40.0000,N, 38, 0.0000,E, grid, , , ,N
Point10,xy, , ,in, deg, , ,N, , ,W, grid, , , ,N
Point11,xy, , ,in, deg, , ,N, , ,W, grid, , , ,N
Point12,xy, , ,in, deg, , ,N, , ,W, grid, , , ,N
Point13,xy, , ,in, deg, , ,N, , ,W, grid, , , ,N
Point14,xy, , ,in, deg, , ,N, , ,W, grid, , , ,N
Point15,xy, , ,in, deg, , ,N, , ,W, grid, , , ,N
Point16,xy, , ,in, deg, , ,N, , ,W, grid, , , ,N
Point17,xy, , ,in, deg, , ,N, , ,W, grid, , , ,N
Point18,xy, , ,in, deg, , ,N, , ,W, grid, , , ,N
Point19,xy, , ,in, deg, , ,N, , ,W, grid, , , ,N
Point20,xy, , ,in, deg, , ,N, , ,W, grid, , , ,N
Point21,xy, , ,in, deg, , ,N, , ,W, grid, , , ,N
Point22,xy, , ,in, deg, , ,N, , ,W, grid, , , ,N
Point23,xy, , ,in, deg, , ,N, , ,W, grid, , , ,N
Point24,xy, , ,in, deg, , ,N, , ,W, grid, , , ,N
Point25,xy, , ,in, deg, , ,N, , ,W, grid, , , ,N
Point26,xy, , ,in, deg, , ,N, , ,W, grid, , , ,N
Point27,xy, , ,in, deg, , ,N, , ,W, grid, , , ,N
Point28,xy, , ,in, deg, , ,N, , ,W, grid, , , ,N
Point29,xy, , ,in, deg, , ,N, , ,W, grid, , , ,N
Point30,xy, , ,in, deg, , ,N, , ,W, grid, , , ,N
Projection Setup, 0.000000000, 39.000000000, 1.000000000, 500000.00, 0.00,,,,,
Map Feature = MF ; Map Comment = MC These follow if they exist
Track File = TF These follow if they exist
Moving Map Parameters = MM? These follow if they exist
MM0,Yes
MMPNUM,4
MMPXY,1,108,100
MMPXY,2,3266,100
MMPXY,3,3266,3014
MMPXY,4,108,3014
MMPLL,1, 37.003920, 69.000592
MMPLL,2, 38.007915, 68.998106
MMPLL,3, 37.994453, 68.666220
MMPLL,4, 37.005355, 68.668690
MM1B,12.710130
MOP,Map Open Position,0,0
IWH,Map Image Width/Height,3374,3114
